BEGIN:VCALENDAR
VERSION:2.0
PRODID:-// - ECPv6.15.14//NONSGML v1.0//EN
CALSCALE:GREGORIAN
METHOD:PUBLISH
X-ORIGINAL-URL:https://mui.gov.et
X-WR-CALDESC:Events for 
REFRESH-INTERVAL;VALUE=DURATION:PT1H
X-Robots-Tag:noindex
X-PUBLISHED-TTL:PT1H
BEGIN:VTIMEZONE
TZID:Africa/Addis_Ababa
BEGIN:STANDARD
TZOFFSETFROM:+0300
TZOFFSETTO:+0300
TZNAME:EAT
DTSTART:20240101T000000
END:STANDARD
END:VTIMEZONE
BEGIN:VEVENT
DTSTART;TZID=Africa/Addis_Ababa:20250515T080000
DTEND;TZID=Africa/Addis_Ababa:20250515T170000
DTSTAMP:20260422T151046
CREATED:20250515T094915Z
LAST-MODIFIED:20250520T060827Z
UID:11121-1747296000-1747328400@mui.gov.et
SUMMARY:The 20th ILO Regional Conference \,Addis Ababa \,Ethiopia.
DESCRIPTION:
URL:https://mui.gov.et/event/the-20th-ilo-regional-conference-addis-ababa-ethiopia/
CATEGORIES:Meeting
END:VEVENT
END:VCALENDAR