BEGIN:VCALENDAR
VERSION:2.0
PRODID:-// - ECPv6.15.14//NONSGML v1.0//EN
CALSCALE:GREGORIAN
METHOD:PUBLISH
X-ORIGINAL-URL:https://mui.gov.et
X-WR-CALDESC:Events for 
REFRESH-INTERVAL;VALUE=DURATION:PT1H
X-Robots-Tag:noindex
X-PUBLISHED-TTL:PT1H
BEGIN:VTIMEZONE
TZID:Africa/Addis_Ababa
BEGIN:STANDARD
TZOFFSETFROM:+0300
TZOFFSETTO:+0300
TZNAME:EAT
DTSTART:20170101T000000
END:STANDARD
END:VTIMEZONE
BEGIN:VTIMEZONE
TZID:UTC
BEGIN:STANDARD
TZOFFSETFROM:+0000
TZOFFSETTO:+0000
TZNAME:UTC
DTSTART:20230101T000000
END:STANDARD
END:VTIMEZONE
BEGIN:VEVENT
DTSTART;TZID=Africa/Addis_Ababa:20260417T080000
DTEND;TZID=Africa/Addis_Ababa:20260420T170000
DTSTAMP:20260421T144537
CREATED:20260330T080652Z
LAST-MODIFIED:20260330T080652Z
UID:12332-1776412800-1776704400@mui.gov.et
SUMMARY:will hold the Ethiopian Infrastructure and Construction Week from April 9-12\, 2018 at the Addis International Convention Center under the motto "Ethiopia Builds!"
DESCRIPTION:The Ministry of Urban and Infrastructure\, in collaboration with various government institutions\, government development organizations\, private sector actors\, stakeholders and partners\, will hold the Ethiopian Infrastructure and Construction Week from April 9-12\, 2018 at the Addis International Convention Center under the motto “Ethiopia Builds!”
URL:https://mui.gov.et/event/will-hold-the-ethiopian-infrastructure-and-construction-week-from-april-9-12-2018-at-the-addis-international-convention-center-under-the-motto-ethiopia-builds/
CATEGORIES:New Event coming soon
ATTACH;FMTTYPE=image/jpeg:https://mui.gov.et/wp-content/uploads/2026/03/photo_2026-03-27_15-16-40.jpg
END:VEVENT
BEGIN:VEVENT
DTSTART;TZID=UTC:20241230T080000
DTEND;TZID=UTC:20241230T170000
DTSTAMP:20260421T144537
CREATED:20241230T105841Z
LAST-MODIFIED:20250520T060350Z
UID:10062-1735545600-1735578000@mui.gov.et
SUMMARY:The 20th ILO Regional Conference \,Addis Ababa \,Ethiopia.
DESCRIPTION:
URL:https://mui.gov.et/event/new-event-coming-soon/
CATEGORIES:Meeting,New Event coming soon
ATTACH;FMTTYPE=image/jpeg:https://mui.gov.et/wp-content/uploads/2024/12/mui.jpg
END:VEVENT
BEGIN:VEVENT
DTSTART;VALUE=DATE:20180309
DTEND;VALUE=DATE:20180313
DTSTAMP:20260421T144537
CREATED:20260330T064004Z
LAST-MODIFIED:20260330T064238Z
UID:12327-1520553600-1520899199@mui.gov.et
SUMMARY:ከሚያዚያ 9-12 ቀን 2018 ዓ/ም በአዲስ ኢንተርናሽናል ኮንቬንሽን ሴንተር የኢትዮጵያ የመሰረተ ልማትና የኮንስትራክሽን ሳምንት
DESCRIPTION:የከተማና መሰረተ ልማት ሚኒስቴር ከተለያዩ የመንግስት ተቋማት፣የመንግስት የልማት ድርጅቶች፣የግሉ ዘርፍ ተዋናዮች፣ከባለድርሻ አካላት እና ከአጋር አካላት ጋር በመተባበር‹‹ኢትዮጵያ ትገነባለች!››በሚል መሪ ቃል ከሚያዚያ 9-12 ቀን 2018 ዓ/ም በአዲስ ኢንተርናሽናል ኮንቬንሽን ሴንተር የኢትዮጵያ የመሰረተ ልማትና የኮንስትራክሽን ሳምንት
URL:https://mui.gov.et/event/%e1%8a%a8%e1%88%9a%e1%8b%ab%e1%8b%9a%e1%8b%ab-9-12-%e1%89%80%e1%8a%95-2018-%e1%8b%93-%e1%88%9d-%e1%89%a0%e1%8a%a0%e1%8b%b2%e1%88%b5-%e1%8a%a2%e1%8a%95%e1%89%b0%e1%88%ad%e1%8a%93%e1%88%bd%e1%8a%93/
LOCATION:Addis Ababa\, Addis Ababa\, Addis Ababa\, Ethiopia
CATEGORIES:New Event coming soon
ATTACH;FMTTYPE=image/jpeg:https://mui.gov.et/wp-content/uploads/2026/03/photo_2026-03-27_15-16-40.jpg
END:VEVENT
END:VCALENDAR