BEGIN:VCALENDAR
VERSION:2.0
PRODID:-// - ECPv6.15.14//NONSGML v1.0//EN
CALSCALE:GREGORIAN
METHOD:PUBLISH
X-ORIGINAL-URL:https://mui.gov.et
X-WR-CALDESC:Events for 
REFRESH-INTERVAL;VALUE=DURATION:PT1H
X-Robots-Tag:noindex
X-PUBLISHED-TTL:PT1H
BEGIN:VTIMEZONE
TZID:Africa/Addis_Ababa
BEGIN:STANDARD
TZOFFSETFROM:+0300
TZOFFSETTO:+0300
TZNAME:EAT
DTSTART:20170101T000000
END:STANDARD
END:VTIMEZONE
BEGIN:VEVENT
DTSTART;VALUE=DATE:20180309
DTEND;VALUE=DATE:20180313
DTSTAMP:20260421T231533
CREATED:20260330T070615Z
LAST-MODIFIED:20260330T070842Z
UID:12330-1520553600-1520899199@mui.gov.et
SUMMARY:ከሚያዚያ 9-12 ቀን 2018 ዓ/ም በአዲስ ኢንተርናሽናል ኮንቬንሽን ሴንተር የኢትዮጵያ የመሰረተ ልማትና የኮንስትራክሽን ሳምንት
DESCRIPTION:የከተማና መሰረተ ልማት ሚኒስቴር ከተለያዩ የመንግስት ተቋማት፣የመንግስት የልማት ድርጅቶች፣የግሉ ዘርፍ ተዋናዮች፣ከባለድርሻ አካላት እና ከአጋር አካላት ጋር በመተባበር‹‹ኢትዮጵያ ትገነባለች!››በሚል መሪ ቃል ከሚያዚያ 9-12 ቀን 2018 ዓ/ም በአዲስ ኢንተርናሽናል ኮንቬንሽን ሴንተር የኢትዮጵያ የመሰረተ ልማትና የኮንስትራክሽን ሳምንት
URL:https://mui.gov.et/language/am/event/%e1%8a%a8%e1%88%9a%e1%8b%ab%e1%8b%9a%e1%8b%ab-9-12-%e1%89%80%e1%8a%95-2018-%e1%8b%93-%e1%88%9d-%e1%89%a0%e1%8a%a0%e1%8b%b2%e1%88%b5-%e1%8a%a2%e1%8a%95%e1%89%b0%e1%88%ad%e1%8a%93%e1%88%bd%e1%8a%93/
LOCATION:Addis Ababa\, Addis Ababa\, Addis Ababa\, Ethiopia
ATTACH;FMTTYPE=image/jpeg:https://mui.gov.et/wp-content/uploads/2026/03/photo_2026-03-27_15-16-40.jpg
END:VEVENT
END:VCALENDAR